BEGIN:VCALENDAR
METHOD:PUBLISH
VERSION:2.0
PRODID:-//WoltLab GmbH//WoltLab Suite Calendar 5.4//EN
CALSCALE:GREGORIAN
X-WR-CALNAME;VALUE=TEXT:Fortbildungen
BEGIN:VEVENT
TRANSP:OPAQUE
UID:event-5@mhh-hno.events
URL:https://mhh-hno.events/calendar/event/5-es-liegt-in-den-genen-heredit%C
 3%A4re-schwerh%C3%B6rigkeit/
DTSTART:20171129T160000Z
DTSTAMP:20171129T160000Z
CREATED:20171129T160000Z
SUMMARY:Es liegt in den Genen: Hereditäre Schwerhörigkeit
DESCRIPTION:Informations- und Fortbildungsveranstaltung des Auditory Valley
  mit dem Exzellenzcluster Hearing4all:\n\n\n\n17.00 Begrüßung und Einführun
 g in das Thema\, Prof. Prof. h.c. Dr. med. Thomas Lenarz\, Direktor der HNO
 -Klinik und des Deutschen HörZentrums Hannover der MHH\n\n\n17.15 Ursache u
 nd Wirkung: Diagnostik von genetisch bedingter Schwerhörigkeit\, Prof. Dr. 
 Anke Lesinski-Schiedat\, HNO-Fachärztin\, Genetische Beratung – fachgeb. HN
 O im Deutschen HörZentrum der MHH\n\n\n17.45 Therapie-Optionen bei hereditä
 rer Schwerhörigkeit\, PD Dr. Athanasia Warnecke\, Assistenzärztin der HNO-K
 linik der MHH\, Exzellenzcluster Hearing4all\n\n\n18.15 Fragen und Diskussi
 on\n\n\n18.30 Schlusswort\, Prof. Prof. h.c. Dr. med. Thomas Lenarz\n\nOrt:
  Vortragsraum im Deutschen HörZentrum Hannover\, Karl-Wiechert-Allee 3\, 30
 625 Hannover / Erdgeschoss
DTEND:20171129T173000Z
END:VEVENT
BEGIN:VEVENT
TRANSP:TRANSPARENT
UID:event-13@mhh-hno.events
URL:https://mhh-hno.events/calendar/event/13-pj-messe/
DTSTART;VALUE=DATE:20170506
DTSTAMP:20170506T000000Z
CREATED:20170506T000000Z
SUMMARY:PJ-Messe
DESCRIPTION:Messe in der MHH für Studenten der Humanmedizin zur Orientierun
 g und Bewerbung für das Praktische Jahr (PJ)
DTEND;VALUE=DATE:20170507
END:VEVENT
BEGIN:VEVENT
TRANSP:TRANSPARENT
UID:event-15@mhh-hno.events
URL:https://mhh-hno.events/calendar/event/15-otology-update/
DTSTART;VALUE=DATE:20170404
DTSTAMP:20170404T000000Z
CREATED:20170404T000000Z
SUMMARY:Otology Update
DESCRIPTION:19. Internationaler Operationskurs für Mittelohr- und Schädelba
 sischirurgie\, inkl. Mittelohr- und Innenohrimplantate mit praktischen Übun
 gen. Internationale Fakultät in Kooperation mit LION (Live International Ot
 olaryngology Network)\, DGSB (Deutsche Gesellschaft f. Schädelbasischirurgi
 e)\, ESBS und EAONO
DTEND;VALUE=DATE:20170408
END:VEVENT
BEGIN:VEVENT
TRANSP:TRANSPARENT
UID:event-16@mhh-hno.events
URL:https://mhh-hno.events/calendar/event/16-aufbaukurs-allergologie-in-der
 -hno-heilkunde/
DTSTART;VALUE=DATE:20170331
DTSTAMP:20170331T000000Z
CREATED:20170331T000000Z
SUMMARY:Aufbaukurs Allergologie in der HNO-Heilkunde
DESCRIPTION:Interdisziplinäre Allergologie\, Nahrungsmittelallergie\, Endon
 asale Nebenhöhlenchirurgie\, Akupunktur\, Allergie und Psyche\, Berufsaller
 gosen\, Umweltmedizin\n\nKontakt: Karin Smolik\,
DTEND;VALUE=DATE:20170402
END:VEVENT
BEGIN:VEVENT
TRANSP:OPAQUE
UID:event-44@mhh-hno.events
URL:https://mhh-hno.events/calendar/event/44-so-sieht-h%C3%B6ren-aus-aktuel
 le-fortschritte-der-diagnostik-von-nirs-bis-zum-hydrops/
DTSTART:20170329T140000Z
DTSTAMP:20170329T140000Z
CREATED:20170329T140000Z
SUMMARY:So sieht hören aus: Aktuelle Fortschritte der Diagnostik von NIRS b
 is zum Hydrops-MRT
DESCRIPTION:Informations- und Fortbildungsveranstaltung des Auditory Valley
  mit dem Exzellenzcluster Hearing4all\n\nOrt: MHH\, Hörsaal G\n\nÄnderung:\
 n\nOrt: MHH\, Hörsaal M
DTEND:20170329T170000Z
END:VEVENT
BEGIN:VEVENT
TRANSP:OPAQUE
UID:event-52@mhh-hno.events
URL:https://mhh-hno.events/calendar/event/52-allergologie-grundkurs/
DTSTART:20180928T080000Z
DTSTAMP:20180928T080000Z
CREATED:20180928T080000Z
SUMMARY:Allergologie Grundkurs
DESCRIPTION:[URL:https://files.mhh-hno.de/index.php/s/ATLRGEZg7kj4ucM]Gemei
 nsam mit Ihnen werden wir immunologische Grundlagen\, klinische Diagnostik 
 und therapeutische Konzepte innerhalb der HNO-Heilkunde sowie die interdisz
 iplinäre Bedeutung der Allergologie erarbeiten. Darüber hinaus werden wir i
 n praktischen Übungen ein Notfallseminar abhalten und seinen Nasenzytologie
 kurs. Unser Kurs entspricht den Richtlinien der Arbeitsgemeinschaft Klinisc
 he Immunologie\, Allergologie und Umweltmedizin der Deutschen Gesellschaft 
 für Hals-Nasen-Ohrenheilkunde\, Kopf- und Halschirurgie und enthält die in 
 der Weiterbildungsordnung festgesetzten allergologischen Ausbildungsinhalte
 .\n\nDieser Kurs wird freundlicherweise von Allergopharma und hal allergy u
 nterstützt.\n\nKontakt:\n\nKarin Smolik\n\nTel.: 0511/532-3036\, Fax: 0511/
 532-8001\n\nE-mail:
DTEND:20180929T160000Z
END:VEVENT
BEGIN:VEVENT
TRANSP:TRANSPARENT
UID:event-61@mhh-hno.events
URL:https://mhh-hno.events/calendar/event/61-hearing4all-winter-plenary-mee
 ting/
DTSTART;VALUE=DATE:20180202
DTSTAMP:20180202T000000Z
CREATED:20180202T000000Z
SUMMARY:Hearing4all - Winter Plenary Meeting
DESCRIPTION:Vollversammlung des Exzellenzclusters Hearing4all
LOCATION:Bremen\, Deutschland
GEO:53.0792961;8.8016939
DTEND;VALUE=DATE:20180203
END:VEVENT
BEGIN:VEVENT
TRANSP:OPAQUE
UID:event-62@mhh-hno.events
URL:https://mhh-hno.events/calendar/event/62-die-zukunft-des-cochlea-implan
 tats-cleveres-elektrodendesign-f%C3%BCr-besseres-sprach/
DTSTART:20180221T153000Z
DTSTAMP:20180221T153000Z
CREATED:20180221T153000Z
SUMMARY:Die Zukunft des Cochlea-Implantats: Cleveres Elektrodendesign für b
 esseres Sprachverstehen
DESCRIPTION:Informations-und Fortbildungsveranstaltung des Auditory Valley 
 mit dem ExzellenzclusterHearing4all.\n\nVortragsraum im Deutschen HörZentru
 m Hannover\, Karl-Wiechert Allee 3\, 30625 Hannover (Et Cetera Gebäude)
LOCATION:Carl-Neuberg-Straße 1\, 30625 Hannover\, Deutschland
GEO:52.3835068;9.8057089
DTEND:20180221T170000Z
END:VEVENT
BEGIN:VEVENT
TRANSP:TRANSPARENT
UID:event-64@mhh-hno.events
URL:https://mhh-hno.events/calendar/event/64-otology-update/
DTSTART;VALUE=DATE:20180409
DTSTAMP:20180409T000000Z
CREATED:20180409T000000Z
SUMMARY:Otology Update
DESCRIPTION:21. Internationaler Operationskurs für Mittelohr- und Schädelba
 sischirurgie\, inkl. Mittelohr- und Innenohrimplantate mit praktischen Übun
 gen. Internationale Fakultät in Kooperation mit LION (Live International Ot
 olaryngology Network)\, DGSB (Deutsche Gesellschaft f. Schädelbasischirurgi
 e)\, ESBS und EAONO
DTEND;VALUE=DATE:20180413
END:VEVENT
BEGIN:VEVENT
TRANSP:TRANSPARENT
UID:event-65@mhh-hno.events
URL:https://mhh-hno.events/calendar/event/65-hannover-hearing-implants-symp
 osium-workshop/
DTSTART;VALUE=DATE:20180413
DTSTAMP:20180413T000000Z
CREATED:20180413T000000Z
SUMMARY:Hannover Hearing Implants – Symposium & Workshop
DESCRIPTION:Internationales Symposium mit Workshop zu implantierbaren Hörsy
 stemen in Zusammenarbeit mit MED-EL
DTEND;VALUE=DATE:20180415
END:VEVENT
BEGIN:VEVENT
TRANSP:OPAQUE
UID:event-67@mhh-hno.events
URL:https://mhh-hno.events/calendar/event/67-pj-messe-in-der-mhh/
DTSTART:20180505T070000Z
DTSTAMP:20180505T070000Z
CREATED:20180505T070000Z
SUMMARY:PJ-Messe in der MHH
DESCRIPTION:Die HNO-Klinik präsentiert sich den Medizin-Studenten für das P
 raktische Jahr (PJ) ihrer Ausbildung\n\nOrt: Hörsaal F\, Bibliotheksgebäude
 
LOCATION:Carl-Neuberg-Straße 1\, 30625 Hannover\, Deutschland
GEO:52.3835068;9.8057089
DTEND:20180505T120000Z
END:VEVENT
BEGIN:VEVENT
TRANSP:TRANSPARENT
UID:event-70@mhh-hno.events
URL:https://mhh-hno.events/calendar/event/70-hannover-forum-f%C3%BCr-hals-n
 asen-ohren%C3%A4rzte/
DTSTART;VALUE=DATE:20180609
DTSTAMP:20180609T000000Z
CREATED:20180609T000000Z
SUMMARY:Hannover Forum für Hals-Nasen-Ohrenärzte
DESCRIPTION:HNO-Klinik und RG Gesellschaft für Information & Organisation m
 bH organisieren gemeinsam diese Fortbildung für HNO-Ärzte.\n\n9 - 15 Uhr\n\
 nVeranstaltungsort ist Hörsaal G der Medizinischen Hochschule Hannover.
DTEND;VALUE=DATE:20180610
END:VEVENT
BEGIN:VEVENT
TRANSP:OPAQUE
UID:event-78@mhh-hno.events
URL:https://mhh-hno.events/calendar/event/78-das-ich-und-das-gehirn-an-den-
 grenzen-der-neurowissenschaft/
DTSTART:20171221T150000Z
DTSTAMP:20171221T150000Z
CREATED:20171221T150000Z
SUMMARY:Das Ich und das Gehirn: An den Grenzen der Neurowissenschaft
DESCRIPTION:In unserer Weihnachtsvorlesung spricht Prof. Andrej Kral\, Leit
 er unseres Forschungsflaggschiffs VIANNA\, ab 16 Uhr.\n\nOrt: Hörsaal G der
  MHH\n\nAnschließend verabschieden wir uns mit Keks und Punsch in die Weihn
 achtszeit.
DTEND:20171221T160000Z
END:VEVENT
BEGIN:VEVENT
TRANSP:TRANSPARENT
UID:event-82@mhh-hno.events
URL:https://mhh-hno.events/calendar/event/82-sommerschule-h%C3%B6ren/
DTSTART;VALUE=DATE:20180626
DTSTAMP:20180626T000000Z
CREATED:20180626T000000Z
SUMMARY:Sommerschule \"Hören\"
DESCRIPTION:Gemeinsame Sommerschule der PhD-Programme „Hören“ und „Auditory
  Sciences“ des Exzellenzclusters „Hearing4all“
DTEND;VALUE=DATE:20180630
END:VEVENT
BEGIN:VEVENT
TRANSP:OPAQUE
UID:event-83@mhh-hno.events
URL:https://mhh-hno.events/calendar/event/83-fortbildung-f%C3%BCr-hno-%C3%A
 4rzte-und-akustiker/
DTSTART:20180822T140000Z
DTSTAMP:20180822T140000Z
CREATED:20180822T140000Z
SUMMARY:Fortbildung für HNO-Ärzte und Akustiker
DESCRIPTION:Start der Veranstaltungsreihe für niedergelassene HNO-Kollegen 
 und Akustiker in Hannover.\n\nAuftaktthema: Moderne Hörsystemversorgung mit
  Mittelohrimplantaten  \n\nZeit: 16-18 Uhr\n\nOrt: Hörsaal G
DTEND:20180822T160000Z
END:VEVENT
BEGIN:VEVENT
TRANSP:OPAQUE
UID:event-86@mhh-hno.events
URL:https://mhh-hno.events/calendar/event/86-zentral-auditorische-implantat
 e-h%C3%B6ren-auch-ohne-h%C3%B6rnerv/
DTSTART:20181121T153000Z
DTSTAMP:20181121T153000Z
CREATED:20181121T153000Z
SUMMARY:Zentral-auditorische Implantate – Hören auch ohne Hörnerv
DESCRIPTION:Informations- und Fortbildungsveranstaltung des Auditory Valley
  mit dem Exzellenzcluster Hearing4all  im Rahmen des „November der Wissensc
 haft“ in Hannover\n\nZeit: 16.30 - 18.00 Uhr\n\nOrt: MHH\, Hörsaal G
DTEND:20181121T170000Z
END:VEVENT
BEGIN:VEVENT
TRANSP:OPAQUE
UID:event-93@mhh-hno.events
URL:https://mhh-hno.events/calendar/event/93-healthy-hearing-and-healthy-ag
 ing-the-correlation-between-hearing-loss-and-other/
DTSTART:20180828T150000Z
DTSTAMP:20180828T150000Z
CREATED:20180828T150000Z
SUMMARY:Healthy hearing and healthy aging: The correlation between hearing 
 loss and other health considerations in elderly people
DESCRIPTION:Unser Gast Prof. Dr. Stefan Launer\, Vorstandsmitglied und wiss
 enschaftlicher Leiter bei Phonak\, hält einen Vortrag über Hören und Komorb
 iditäten.\n\nBeginn: 17 Uhr\n\nim Foyer des DHZ\, Karl-Wiechert-Allee 3.
LOCATION:Karl-Wiechert-Allee 3\, 30625 Hannover\, Deutschland
GEO:52.3829918;9.8098145
DTEND:20180828T160000Z
END:VEVENT
BEGIN:VEVENT
TRANSP:TRANSPARENT
UID:event-96@mhh-hno.events
URL:https://mhh-hno.events/calendar/event/96-lion/
DTSTART;VALUE=DATE:20181204
DTSTAMP:20181204T000000Z
CREATED:20181204T000000Z
SUMMARY:LION
DESCRIPTION:Otology-NeurotologyLive Surgical Broadcast – LION\n\nLive Inter
 national Otolaryngology Network –Internet-basierte Fortbildungsveranstaltun
 g mit Simultanübertragung ausverschiedenen Operationssälen in fünf Kontinen
 ten\n\nsiehe auch http://lion-web.org/
DTEND;VALUE=DATE:20181205
END:VEVENT
BEGIN:VEVENT
TRANSP:OPAQUE
UID:event-98@mhh-hno.events
URL:https://mhh-hno.events/calendar/event/98-der-feine-unterschied-beim-inn
 enohr-z%C3%A4hlt-jeder-millimeter/
DTSTART:20190123T153000Z
DTSTAMP:20190123T153000Z
CREATED:20190123T153000Z
SUMMARY:Der feine Unterschied: Beim Innenohr zählt jeder Millimeter
DESCRIPTION:Informations-und Fortbildungsveranstaltung des Auditory Valley 
 mit dem ExzellenzclusterHearing4all\n\nim Bibliotheksgebäude der MHH\, Hörs
 aal G
LOCATION:Carl-Neuberg-Straße 1\, 30625 Hannover\, Deutschland
GEO:52.3835754;9.8049917
DTEND:20190123T170000Z
END:VEVENT
BEGIN:VEVENT
TRANSP:OPAQUE
UID:event-100@mhh-hno.events
URL:https://mhh-hno.events/calendar/event/100-hno-plenum-f%C3%BCr-niedergel
 assene/
DTSTART:20190518T070000Z
DTSTAMP:20190518T070000Z
CREATED:20190518T070000Z
SUMMARY:HNO Plenum für Niedergelassene
DESCRIPTION:Fortbildungsveranstaltung fürniedergelassene HNO-Kollegen\n\n9-
 13 Uhr\n\nimBibliotheksgebäude der MHH\n\nHauptreferent: Prof. Thomas Lenar
 z\n\nHier finden Sie das Programm:
LOCATION:Carl-Neuberg-Straße 1\, 30625 Hannover\, Deutschland
GEO:52.3835754;9.8049917
DTEND:20190518T110000Z
END:VEVENT
BEGIN:VEVENT
TRANSP:OPAQUE
UID:event-102@mhh-hno.events
URL:https://mhh-hno.events/calendar/event/102-therapeutenseminar/
DTSTART:20190320T090000Z
DTSTAMP:20190320T090000Z
CREATED:20190320T090000Z
SUMMARY:Therapeutenseminar
DESCRIPTION:Fortbildung für Therapeuten im Bereich HNOund Cochlea-Implantat
 \n\nSeminarraum im Deutschen HörZentrum Hannover (DHZ)\n\n10-15 Uhr
LOCATION:Karl-Wiechert-Allee 3\, 30625 Hannover\, Deutschland
GEO:52.3829918;9.8098145
DTEND:20190320T140000Z
END:VEVENT
BEGIN:VEVENT
TRANSP:OPAQUE
UID:event-103@mhh-hno.events
URL:https://mhh-hno.events/calendar/event/103-otology-update/
DTSTART:20190326T063000Z
DTSTAMP:20190326T063000Z
CREATED:20190326T063000Z
SUMMARY:Otology Update
DESCRIPTION:22. Internationaler Operationskurs fürMittelohr- und Schädelbas
 ischirurgie\, inkl. Mittelohr- und Innenohrimplantatemit praktischen Übunge
 n. Internationale Fakultät in Kooperation mit LION (LiveInternational Otola
 ryngology Network)\, DGSB (Deutsche Gesellschaft f.Schädelbasischirurgie)\,
  European Skull Base Society (ESBS) und European Academyof Otology & Neuro-
 Otology (EAONO)\n\nHNO-Klinik der MHH\, OP und Anatomie
LOCATION:Carl-Neuberg-Straße 1\, 30625 Hannover\, Deutschland
GEO:52.3835754;9.8049917
DTEND:20190329T173000Z
END:VEVENT
BEGIN:VEVENT
TRANSP:OPAQUE
UID:event-105@mhh-hno.events
URL:https://mhh-hno.events/calendar/event/105-aufbaukurs-allergologie-in-de
 r-hno-heilkunde/
DTSTART:20190405T080000Z
DTSTAMP:20190405T080000Z
CREATED:20190405T080000Z
SUMMARY:Aufbaukurs Allergologie in der HNO-Heilkunde
DESCRIPTION:Interdisziplinäre Allergologie\, Nahrungsmittelallergie\, Endon
 asale Nebenhöhlenchirurgie\, Akupunktur\, Allergie und Psyche\, Berufsaller
 gosen\, Umweltmedizin\n\nFr 10-18 Uhr /  Sa 9.30 – 16.15\n\nim Seminarraum 
 20 zwischen HNO-Poliklinik und Augenklinik\n\nKontakt: Karin Smolik\, smoli
 k.karin@mh-hannover.de [URL:mailto:smolik.karin@mh-hannover.de]
LOCATION:Carl-Neuberg-Straße 1\, 30625 Hannover\, Deutschland
GEO:52.3835754;9.8049917
DTEND:20190406T141500Z
END:VEVENT
BEGIN:VEVENT
TRANSP:OPAQUE
UID:event-106@mhh-hno.events
URL:https://mhh-hno.events/calendar/event/106-ihear-internationaler-kongres
 s-in-buenos-aires-argentinien/
DTSTART:20190424T070000Z
DTSTAMP:20190424T070000Z
CREATED:20190424T070000Z
SUMMARY:iHear - internationaler Kongress in Buenos Aires\, Argentinien
DESCRIPTION:Kongress unseres internationalen Forschungsprojekts iHear\, das
 durch das Bundesministerium für Bildung und Forschung (BMBF) gefördert wird
 .
DTEND:20190426T160000Z
END:VEVENT
BEGIN:VEVENT
TRANSP:OPAQUE
UID:event-108@mhh-hno.events
URL:https://mhh-hno.events/calendar/event/108-pj-messe-der-medizinischen-ho
 chschule-hannover/
DTSTART:20190511T070000Z
DTSTAMP:20190511T070000Z
CREATED:20190511T070000Z
SUMMARY:PJ-Messe der Medizinischen Hochschule Hannover
DESCRIPTION:Die HNO-Klinik präsentiert sich bei der Messe in der MHH den St
 udenten der Humanmedizin zur Orientierung und Bewerbung für das Praktische 
 Jahr (PJ) \n\nHörsaal F\, Bibliotheksgebäude der MHH
LOCATION:Carl-Neuberg-Straße 1\, 30625 Hannover\, Deutschland
GEO:52.3835754;9.8049917
DTEND:20190511T110000Z
END:VEVENT
BEGIN:VEVENT
TRANSP:OPAQUE
UID:event-110@mhh-hno.events
URL:https://mhh-hno.events/calendar/event/110-fortbildung-f%C3%BCr-zuweiser
 -und-akustiker/
DTSTART:20190612T150000Z
DTSTAMP:20190612T150000Z
CREATED:20190612T150000Z
SUMMARY:Fortbildung für Zuweiser und Akustiker
DESCRIPTION:Eine Fortbildungsveranstaltung für alle Zuweiser undAkustiker\,
  die mit unserer HNO-Klinik und dem Deutschen HörZentrum zusammenarbeiten.\
 n\nBeginn ist um 17 Uhr.\n\nDas genaue Programm finden Sie hier:\n\n  Deuts
 ches HörZentrum Hannover\, Karl-Wiechert-Allee 3\, 30625 Hannover
LOCATION:Karl-Wiechert-Allee 3\, 30625 Hannover\, Deutschland
GEO:52.3831635;9.8094778
DTEND:20190612T180000Z
END:VEVENT
BEGIN:VEVENT
TRANSP:TRANSPARENT
UID:event-113@mhh-hno.events
URL:https://mhh-hno.events/calendar/event/113-sommer-plenary-meeting-hearin
 g4all-und-sommerschule-h%C3%B6ren/
DTSTART;VALUE=DATE:20190827
DTSTAMP:20190827T000000Z
CREATED:20190827T000000Z
SUMMARY:Sommer Plenary Meeting Hearing4all und Sommerschule „Hören“
DESCRIPTION:Gemeinsame Sommerschule der PhD-Programme„Hören“ und „Auditory 
 Sciences“ des Exzellenzclusters „Hearing4all“
DTEND;VALUE=DATE:20190830
END:VEVENT
BEGIN:VEVENT
TRANSP:OPAQUE
UID:event-119@mhh-hno.events
URL:https://mhh-hno.events/calendar/event/119-doppelt-h%C3%A4lt-besser-elek
 trische-und-akustische-stimulation/
DTSTART:20191106T153000Z
DTSTAMP:20191106T153000Z
CREATED:20191106T153000Z
SUMMARY:Doppelt hält besser: Elektrische und akustische Stimulation
DESCRIPTION:Informations-und Fortbildungsveranstaltung des Auditory Valley 
 mit dem ExzellenzclusterHearing4all\n\n16.30 - 18.00 Uhr\n\nHörsaal H im Bi
 bliotheskgebäude der MHH
LOCATION:Carl-Neuberg-Straße 1\, 30625 Hannover\, Deutschland
GEO:52.3835754;9.8049917
DTEND:20191106T170000Z
END:VEVENT
BEGIN:VEVENT
TRANSP:TRANSPARENT
UID:event-121@mhh-hno.events
URL:https://mhh-hno.events/calendar/event/121-icbt/
DTSTART;VALUE=DATE:20191118
DTSTAMP:20191118T000000Z
CREATED:20191118T000000Z
SUMMARY:ICBT
DESCRIPTION:CourtyardHannover Maschsee
LOCATION:Arthur-Menge-Ufer 3\, 30169 Hannover\, Deutschland
GEO:52.3619919;9.7350912
DTEND;VALUE=DATE:20191121
END:VEVENT
BEGIN:VEVENT
TRANSP:OPAQUE
UID:event-124@mhh-hno.events
URL:https://mhh-hno.events/calendar/event/124-isiet-international-symposium
 -for-inner-ear-therapies/
DTSTART:20191104T070000Z
DTSTAMP:20191104T070000Z
CREATED:20191104T070000Z
SUMMARY:ISIET - International Symposium for Inner Ear Therapies
DESCRIPTION:Fachleute aus aller Welt treffen sich in Hannover zum mittlerwe
 ilen 2. Symposium der ISIET\, um sich über Forschungsergebnisse und Therapi
 eansätze im Bereich des Innenohres auszutauschen.\n\nMehr Informationen unt
 er http://www.isiet.org
DTEND:20191106T133000Z
END:VEVENT
BEGIN:VEVENT
TRANSP:OPAQUE
UID:event-125@mhh-hno.events
URL:https://mhh-hno.events/calendar/event/125-ultraschallkurse-f%C3%BCr-hno
 -%C3%A4rzte-und-kieferchirurgen-grundkurs/
DTSTART:20190920T110000Z
DTSTAMP:20190920T110000Z
CREATED:20190920T110000Z
SUMMARY:Ultraschallkurse für HNO-Ärzte und Kieferchirurgen - Grundkurs
DESCRIPTION:Sehr herzlich laden wir Sie zu unserem Kurszyklus Ultraschall 2
 019 und 2020 mit Grund-\, Aufbau- und Abschlusskurs ein.\n\nDer Grundkurs v
 ermittelt eine systematische Einführung in die standardisierten Untersuchun
 gsmethoden und typischen pathologischen Befunde.\n\nDazu werden praktische 
 Übungen an den Geräten der Firma Zonare unter Anleitung angeboten\, denn ne
 ueste gerätetechnische Entwicklungen tragen zu einer wesentlichen Bereicher
 ung der Diagnostik bei.\n\nUnser Kursprogramm finden Sie hier:
DTEND:20190921T170000Z
END:VEVENT
BEGIN:VEVENT
TRANSP:TRANSPARENT
UID:event-130@mhh-hno.events
URL:https://mhh-hno.events/calendar/event/130-med-el-hannover-hearing-impla
 nts-symposium-workshop/
DTSTART;VALUE=DATE:20200214
DTSTAMP:20200214T000000Z
CREATED:20200214T000000Z
SUMMARY:MED-EL: Hannover Hearing Implants – Symposium & Workshop
DESCRIPTION:Internationales Symposium mit Workshop zu implantierbaren Hörsy
 stemen in Zusammenarbeit mit MED-EL
LOCATION:Carl-Neuberg-Straße 1\, 30625 Hannover\, Deutschland
GEO:52.3835754;9.8049917
DTEND;VALUE=DATE:20200216
END:VEVENT
BEGIN:VEVENT
TRANSP:TRANSPARENT
UID:event-133@mhh-hno.events
URL:https://mhh-hno.events/calendar/event/133-verschoben-ultraschall-aufbau
 kurs/
DTSTART;VALUE=DATE:20200417
DTSTAMP:20200417T000000Z
CREATED:20200417T000000Z
SUMMARY:VERSCHOBEN: Ultraschall Aufbaukurs
DESCRIPTION:weitere Informationen folgen
LOCATION:Carl-Neuberg-Straße 1\, 30625 Hannover\, Deutschland
GEO:52.3835754;9.8049917
DTEND;VALUE=DATE:20200419
END:VEVENT
BEGIN:VEVENT
TRANSP:TRANSPARENT
UID:event-161@mhh-hno.events
URL:https://mhh-hno.events/calendar/event/161-aufbaukurs-allergologie-in-de
 r-hno-heilkunde/
DTSTART;VALUE=DATE:20210319
DTSTAMP:20210319T000000Z
CREATED:20210319T000000Z
SUMMARY:Aufbaukurs Allergologie in der HNO-Heilkunde
DESCRIPTION:Interdisziplinäre Allergologie\, Nahrungsmittelallergie\, Endon
 asale Nebenhöhlenchirurgie\, Akupunktur\, Allergie\n\nFr 9.45-18.30 Uhr /  
 Sa 9.15 – 16.00\n\nSeminarraum 20\n\nKontakt: Karin Smolik\,   \n\nAnmeldun
 g zur Teilnahme über unser Buchungsportal [URL:https://eveeno.com/mhh-hno-a
 ufbaukurs-allergologie-2021]
LOCATION:Carl-Neuberg-Straße 1\, 30625 Hannover\, Deutschland
GEO:52.3836746;9.8049555
DTEND;VALUE=DATE:20210321
END:VEVENT
BEGIN:VEVENT
TRANSP:TRANSPARENT
UID:event-162@mhh-hno.events
URL:https://mhh-hno.events/calendar/event/162-ultraschall-abschlusskurs/
DTSTART;VALUE=DATE:20210625
DTSTAMP:20210625T000000Z
CREATED:20210625T000000Z
SUMMARY:Ultraschall-Abschlusskurs
DESCRIPTION:Fr 13-20 Uhr\, Sa 9-18.30 Uhr\n\nInfos und Anmeldung über unser
  Buchungsportal [URL:https://eveeno.com/213077321]
LOCATION:Carl-Neuberg-Straße 1\, 30625 Hannover\, Deutschland
GEO:52.3836746;9.8049555
DTEND;VALUE=DATE:20210627
END:VEVENT
BEGIN:VEVENT
TRANSP:TRANSPARENT
UID:event-165@mhh-hno.events
URL:https://mhh-hno.events/calendar/event/165-lion-und-otology-update-virtu
 ally/
DTSTART;VALUE=DATE:20210504
DTSTAMP:20210504T000000Z
CREATED:20210504T000000Z
SUMMARY:LION und Otology Update virtually
DESCRIPTION:weitere Informationen folgen
DTEND;VALUE=DATE:20210508
END:VEVENT
BEGIN:VEVENT
TRANSP:OPAQUE
UID:event-167@mhh-hno.events
URL:https://mhh-hno.events/calendar/event/167-hno-plenum-f%C3%BCr-niedergel
 assene/
DTSTART:20210714T170000Z
DTSTAMP:20210714T170000Z
CREATED:20210714T170000Z
SUMMARY:HNO-Plenum für Niedergelassene
DESCRIPTION:Themen:\nMittelohr\, Tube\, Schallleitungsschwerhörigkeit\n\nFo
 rtbildungsveranstaltung für niedergelassene HNO-Kollegen\n\nim Online Strea
 m\n\nZur Anmeldung [URL:https://eveeno.com/137190486]
DTEND:20210714T190000Z
END:VEVENT
BEGIN:VEVENT
TRANSP:OPAQUE
UID:event-171@mhh-hno.events
URL:https://mhh-hno.events/calendar/event/171-dialog-schlafmedizin/
DTSTART:20210918T080000Z
DTSTAMP:20210918T080000Z
CREATED:20210918T080000Z
SUMMARY:Dialog Schlafmedizin
DESCRIPTION:Fortbildungsveranstaltung in Zusammenarbeit mit XM-Consult\n\nh
 ttps://www.dialog-schlafmedizin.de/
DTEND:20210918T133000Z
END:VEVENT
BEGIN:VEVENT
TRANSP:TRANSPARENT
UID:event-172@mhh-hno.events
URL:https://mhh-hno.events/calendar/event/172-otology-update/
DTSTART;VALUE=DATE:20210920
DTSTAMP:20210920T000000Z
CREATED:20210920T000000Z
SUMMARY:Otology Update
DESCRIPTION:24th Course on Ear and Temporal Bone Surgery.\n\nInternational 
  faculty in cooperation with LION (Live International Otolaryngology Networ
 k)\, DGSB (Deutsche Gesellschaft f. Schädelbasischirurgie)\, European Skull
  Base Society (ESBS) and European Academy of Otology & Neuro-Otology (EAONO
 )\n\nMonday to Thursday
LOCATION:Carl-Neuberg-Straße 1\, 30625 Hannover\, Deutschland
GEO:52.3836746;9.8049555
DTEND;VALUE=DATE:20210924
END:VEVENT
BEGIN:VEVENT
TRANSP:OPAQUE
UID:event-209@mhh-hno.events
URL:https://mhh-hno.events/calendar/event/255-siiri-implant-lecture/
DTSTART:20220315T160000Z
DTSTAMP:20220315T160000Z
CREATED:20220315T160000Z
SUMMARY:SIIRI Implant Lecture
DESCRIPTION:Beschreibung folgt
DTEND:20220315T170000Z
END:VEVENT
BEGIN:VEVENT
TRANSP:OPAQUE
UID:event-275@mhh-hno.events
URL:https://mhh-hno.events/calendar/event/321-hannover-forum-f%C3%BCr-hno-h
 eilkunde/
DTSTART:20230909T080000Z
DTSTAMP:20230909T080000Z
CREATED:20230909T080000Z
SUMMARY:Hannover Forum für HNO-Heilkunde
DESCRIPTION:Fortbildung für HNO-Ärzte
DTEND:20230909T130000Z
END:VEVENT
BEGIN:VEVENT
TRANSP:TRANSPARENT
UID:event-306@mhh-hno.events
URL:https://mhh-hno.events/calendar/event/352-verschoben-ultraschall-abschl
 usskurs/
DTSTART;VALUE=DATE:20241206
DTSTAMP:20241206T000000Z
CREATED:20241206T000000Z
SUMMARY:Verschoben: Ultraschall Abschlusskurs
DESCRIPTION:Anmeldung unter:\n\nhttps://eveeno.com/352420565
DTEND;VALUE=DATE:20241208
END:VEVENT
BEGIN:VEVENT
TRANSP:TRANSPARENT
UID:event-328@mhh-hno.events
URL:https://mhh-hno.events/calendar/event/374-27-hannoverscher-ci-kongress/
DTSTART;VALUE=DATE:20250919
DTSTAMP:20250919T000000Z
CREATED:20250919T000000Z
SUMMARY:27. Hannoverscher CI-Kongress
DESCRIPTION:Interdisziplinärer Kongress für Patienten\, Ärzte\, Logopäden\,
  Lehrer\, Fachleute\, Selbsthilfegruppen\, Interessierte und Freunde\n\nwei
 tere Informationen unter https://www.ci-kongress.de
DTEND;VALUE=DATE:20250921
END:VEVENT
END:VCALENDAR
