BEGIN:VCALENDAR
METHOD:PUBLISH
VERSION:2.0
PRODID:-//WoltLab GmbH//WoltLab Suite Calendar 5.4//EN
CALSCALE:GREGORIAN
X-WR-CALNAME;VALUE=TEXT:sonstige
BEGIN:VEVENT
TRANSP:TRANSPARENT
UID:event-2@mhh-hno.events
URL:https://mhh-hno.events/calendar/event/2-ent-world-congress/
DTSTART;VALUE=DATE:20170624
DTSTAMP:20170624T000000Z
CREATED:20170624T000000Z
SUMMARY:ENT World Congress
DTEND;VALUE=DATE:20170629
END:VEVENT
BEGIN:VEVENT
TRANSP:TRANSPARENT
UID:event-3@mhh-hno.events
URL:https://mhh-hno.events/calendar/event/3-international-conference-on-bio
 medical-technology-icbt/
DTSTART;VALUE=DATE:20171106
DTSTAMP:20171106T000000Z
CREATED:20171106T000000Z
SUMMARY:International Conference on Biomedical Technology (ICBT)
DESCRIPTION:Internationaler Kongress zur Biomedizintechnik von HNO-Klinik d
 er MHH und Leibniz Universität Hannover
DTEND;VALUE=DATE:20171109
END:VEVENT
BEGIN:VEVENT
TRANSP:TRANSPARENT
UID:event-4@mhh-hno.events
URL:https://mhh-hno.events/calendar/event/4-h4a-international-symposium/
DTSTART;VALUE=DATE:20171102
DTSTAMP:20171102T000000Z
CREATED:20171102T000000Z
SUMMARY:H4A International Symposium
DESCRIPTION:Internationales Symposium des Exzellenzclusters Hearing4all in 
 Hannover
DTEND;VALUE=DATE:20171104
END:VEVENT
BEGIN:VEVENT
TRANSP:TRANSPARENT
UID:event-6@mhh-hno.events
URL:https://mhh-hno.events/calendar/event/6-inner-ear-biology-ieb-2017/
DTSTART;VALUE=DATE:20170913
DTSTAMP:20170913T000000Z
CREATED:20170913T000000Z
SUMMARY:Inner Ear Biology (IEB) 2017
DESCRIPTION:Internationaler Kongress zu Inner Ear Biology\nGastgeber ist di
 e HNO-Klinik der MHH
DTEND;VALUE=DATE:20170917
END:VEVENT
BEGIN:VEVENT
TRANSP:TRANSPARENT
UID:event-8@mhh-hno.events
URL:https://mhh-hno.events/calendar/event/8-sommerschule-h%C3%B6ren/
DTSTART;VALUE=DATE:20170815
DTSTAMP:20170815T000000Z
CREATED:20170815T000000Z
SUMMARY:Sommerschule \"Hören\"
DESCRIPTION:Gemeinsame Sommerschule der PhD-Programme „Hören“ und „Auditory
  Sciences“ des Exzellenzclusters „Hearing4all“
DTEND;VALUE=DATE:20170819
END:VEVENT
BEGIN:VEVENT
TRANSP:TRANSPARENT
UID:event-10@mhh-hno.events
URL:https://mhh-hno.events/calendar/event/10-biotechnica-2017/
DTSTART;VALUE=DATE:20170516
DTSTAMP:20170516T000000Z
CREATED:20170516T000000Z
SUMMARY:Biotechnica 2017
DESCRIPTION:HNO-Klinik und Exzellenzcluster Hearing4all auf der Biotechnica
 \, der internationalen Fachmesse für Biotechnologie und Life Sciences in Ha
 nnover\n\nhttp://www.labvolution.de/
DTEND;VALUE=DATE:20170519
END:VEVENT
BEGIN:VEVENT
TRANSP:TRANSPARENT
UID:event-11@mhh-hno.events
URL:https://mhh-hno.events/calendar/event/11-otology-neurotology-live-surgi
 cal-broadcast-lion/
DTSTART;VALUE=DATE:20170516
DTSTAMP:20170516T000000Z
CREATED:20170516T000000Z
SUMMARY:Otology-Neurotology Live Surgical Broadcast - LION
DESCRIPTION:Live International Otolaryngology Network – Internet-basierte F
 ortbildungsveranstaltung mit Simultanübertragung aus verschiedenen Operatio
 nssälen in fünf Kontinenten
DTEND;VALUE=DATE:20170517
END:VEVENT
BEGIN:VEVENT
TRANSP:TRANSPARENT
UID:event-12@mhh-hno.events
URL:https://mhh-hno.events/calendar/event/12-grundkurs-ultraschalldiagnosti
 k-im-kopf-hals-bereich/
DTSTART;VALUE=DATE:20170825
DTSTAMP:20170825T000000Z
CREATED:20170825T000000Z
SUMMARY:Grundkurs Ultraschalldiagnostik im Kopf-Hals-Bereich
DESCRIPTION:Fortbildung für Hals-Nasen-Ohrenärzte\n\nOrt: MHH\, Seminarraum
  20
DTEND;VALUE=DATE:20170827
END:VEVENT
BEGIN:VEVENT
TRANSP:TRANSPARENT
UID:event-95@mhh-hno.events
URL:https://mhh-hno.events/calendar/event/95-hearing4all-bei-der-bmt-2018-i
 n-aachen/
DTSTART;VALUE=DATE:20180926
DTSTAMP:20180926T000000Z
CREATED:20180926T000000Z
SUMMARY:Hearing4all bei der BMT 2018 in Aachen
DESCRIPTION:Mit unserem Exzellenzcluster Hearing4all sind wir bei der BMT 2
 018 in Aachen vertreten - mit zahlreichen Vorträgen unserer Forscher sowie 
 einem Informationsstand.\n\n-> Hier geht es zur Veranstaltungsseite der BMT
  [URL:https://www.vde.com/en/events/biomedical-technology-congress-2018]
DTEND;VALUE=DATE:20180929
END:VEVENT
BEGIN:VEVENT
TRANSP:TRANSPARENT
UID:event-114@mhh-hno.events
URL:https://mhh-hno.events/calendar/event/114-symposium-50-jahre-hno-an-der
 -mhh/
DTSTART;VALUE=DATE:20190830
DTSTAMP:20190830T000000Z
CREATED:20190830T000000Z
SUMMARY:Symposium: 50 Jahre HNO an der MHH
DTEND;VALUE=DATE:20190831
END:VEVENT
BEGIN:VEVENT
TRANSP:TRANSPARENT
UID:event-137@mhh-hno.events
URL:https://mhh-hno.events/calendar/event/137-otology-neurotology-live-surg
 ical-broadcast-lion/
DTSTART;VALUE=DATE:20200518
DTSTAMP:20200518T000000Z
CREATED:20200518T000000Z
SUMMARY:Otology-Neurotology Live Surgical Broadcast – LION
DESCRIPTION:Internationales Event der Ohrchirurgen: \"Doctors United for Ed
 ucation\" beim Live International Otolaryngology Network\, der Internet-bas
 ierten Fortbildungsveranstaltung mit Simultanübertragung aus verschiedenen 
 Operationssälen in allen fünf Kontinentender Erde.\n\n32 Experten aus aller
  Welt schalten sich zusammen und demonstrieren Fallbeispiele\, die dann dis
 kutiert werden.\n\nKostenlose Teilnahme über einmalige Registrierung unter\
 n\nhttp://www.lion-web.org
DTEND;VALUE=DATE:20200520
END:VEVENT
BEGIN:VEVENT
TRANSP:OPAQUE
UID:event-164@mhh-hno.events
URL:https://mhh-hno.events/calendar/event/164-pj-messe-in-der-mhh/
DTSTART:20210424T070000Z
DTSTAMP:20210424T070000Z
CREATED:20210424T070000Z
SUMMARY:PJ-Messe in der MHH
DESCRIPTION:Die HNO-Klinik präsentiert sich bei der Messe in der MHH den St
 udenten der Humanmedizin zur Orientierung und Bewerbung für das Praktische 
 Jahr (PJ)\n\nHörsaal F\, Bibliotheksgebäude der MHH
LOCATION:Carl-Neuberg-Straße 1\, 30625 Hannover\, Deutschland
GEO:52.3836746;9.8049555
DTEND:20210424T120000Z
END:VEVENT
BEGIN:VEVENT
TRANSP:OPAQUE
UID:event-179@mhh-hno.events
URL:https://mhh-hno.events/calendar/event/179-hearing4all-bei-der-hannover-
 messe-digital-edition/
DTSTART:20210412T040000Z
DTSTAMP:20210412T040000Z
CREATED:20210412T040000Z
SUMMARY:Hearing4all bei der Hannover Messe – Digital Edition
DESCRIPTION:Auch bei der diesjährigen Hannover Messe präsentiert sich unser
  Exzellenzcluster Hearing4all den internationalen Besuchern. Thema: die vir
 tuelle Hörklinik.\n\nWenn Sie ein kostenloses Besucherticket haben möchten\
 , um sich bei der Corona-bedingt gänzlich digital abgehaltenen Messe umzuse
 hen\, dann bekommen Sie dieses über unser Buchungsportal unter https://evee
 no.com/300838451\n\nDie Hannover Messe ist von Montag\, 12. April\, bis Fre
 itag\, 16 April\, täglich von 6 bis 20 Uhr geöffnet. Kommen Sie bei uns beq
 uem vom PC oder Handy aus bei uns von Hearing4all vorbei!\n\nhttp://www.han
 novermesse.de/de/hm-digital-edition/
DTEND:20210416T180000Z
END:VEVENT
BEGIN:VEVENT
TRANSP:OPAQUE
UID:event-186@mhh-hno.events
URL:https://mhh-hno.events/calendar/event/186-resident-research-day/
DTSTART:20220114T070000Z
DTSTAMP:20220114T070000Z
CREATED:20220114T070000Z
SUMMARY:Resident Research Day
DESCRIPTION:Der Resident Research Day ist eine HNO-Klinik-interne Fortbildu
 ng\, bei der die Assistenzärzte den aktuellen Stand ihres Forschungsprojekt
 s vorstellen.
DTEND:20220114T150000Z
END:VEVENT
BEGIN:VEVENT
TRANSP:TRANSPARENT
UID:event-212@mhh-hno.events
URL:https://mhh-hno.events/calendar/event/258-pj-messe/
DTSTART;VALUE=DATE:20220402
DTSTAMP:20220402T000000Z
CREATED:20220402T000000Z
SUMMARY:PJ Messe
DESCRIPTION:Die HNO-Klinik präsentiert sich bei der Messe in der MHH den St
 udenten der Humanmedizin zur Orientierung und Bewerbung für das Praktische 
 Jahr (PJ)\n\nhttps://www.mhh.de/praktisches-jahr/virtuelle-pj-messe
DTEND;VALUE=DATE:20220430
END:VEVENT
BEGIN:VEVENT
TRANSP:TRANSPARENT
UID:event-215@mhh-hno.events
URL:https://mhh-hno.events/calendar/event/261-zukunftstag-an-der-mhh/
DTSTART;VALUE=DATE:20220428
DTSTAMP:20220428T000000Z
CREATED:20220428T000000Z
SUMMARY:Zukunftstag an der MHH
DESCRIPTION:Beschreibung folgt
DTEND;VALUE=DATE:20220429
END:VEVENT
BEGIN:VEVENT
TRANSP:TRANSPARENT
UID:event-232@mhh-hno.events
URL:https://mhh-hno.events/calendar/event/278-hcig-vollversammlung-und-somm
 erfest/
DTSTART;VALUE=DATE:20220723
DTSTAMP:20220723T000000Z
CREATED:20220723T000000Z
SUMMARY:HCIG Vollversammlung und Sommerfest
DESCRIPTION:Generalversammlung ab 10.30 Uhr\, Jubiläum 25 Jahre +1 ab 14.30
  Uhr
DTEND;VALUE=DATE:20220724
END:VEVENT
BEGIN:VEVENT
TRANSP:TRANSPARENT
UID:event-244@mhh-hno.events
URL:https://mhh-hno.events/calendar/event/290-bmt-2022/
DTSTART;VALUE=DATE:20220928
DTSTAMP:20220928T000000Z
CREATED:20220928T000000Z
SUMMARY:BMT 2022
DESCRIPTION:Vorträge der HNO-Kollegen\, Ausstellungsstand Hearing4ll\n\nInf
 ormationen folgen
DTEND;VALUE=DATE:20221001
END:VEVENT
BEGIN:VEVENT
TRANSP:TRANSPARENT
UID:event-270@mhh-hno.events
URL:https://mhh-hno.events/calendar/event/316-deutscher-hno-kongress/
DTSTART;VALUE=DATE:20230517
DTSTAMP:20230517T000000Z
CREATED:20230517T000000Z
SUMMARY:Deutscher HNO-Kongress
DESCRIPTION:Ausstellungsstand des Exzellenzclusters Hearing4all\n\nweitere 
 Informationen auf der Website der DGHNO [URL:https://www.hno.org/2023/index
 .html]
LOCATION:Leipzg
DTEND;VALUE=DATE:20230521
END:VEVENT
BEGIN:VEVENT
TRANSP:OPAQUE
UID:event-272@mhh-hno.events
URL:https://mhh-hno.events/calendar/event/318-norddeutscher-hno-kongress/
DTSTART:20230609T060000Z
DTSTAMP:20230609T060000Z
CREATED:20230609T060000Z
SUMMARY:Norddeutscher HNO-Kongress
DESCRIPTION:https://www.ndg-hno.de/
DTEND:20230610T160000Z
END:VEVENT
BEGIN:VEVENT
TRANSP:TRANSPARENT
UID:event-278@mhh-hno.events
URL:https://mhh-hno.events/calendar/event/324-bmt-2023/
DTSTART;VALUE=DATE:20230926
DTSTAMP:20230926T000000Z
CREATED:20230926T000000Z
SUMMARY:BMT 2023
DTEND;VALUE=DATE:20230929
END:VEVENT
BEGIN:VEVENT
TRANSP:OPAQUE
UID:event-280@mhh-hno.events
URL:https://mhh-hno.events/calendar/event/326-30-jahrestagung-der-gesellsch
 aft-f%C3%BCr-sch%C3%A4delbasischirurgie/
DTSTART:20231011T060000Z
DTSTAMP:20231011T060000Z
CREATED:20231011T060000Z
SUMMARY:30. Jahrestagung der Gesellschaft für Schädelbasischirurgie
DTEND:20231014T160000Z
END:VEVENT
BEGIN:VEVENT
TRANSP:TRANSPARENT
UID:event-281@mhh-hno.events
URL:https://mhh-hno.events/calendar/event/327-icbt-2023/
DTSTART;VALUE=DATE:20231106
DTSTAMP:20231106T000000Z
CREATED:20231106T000000Z
SUMMARY:ICBT 2023
DESCRIPTION:https://icbt-hannover.com/
LOCATION:Courtyard Hannover
DTEND;VALUE=DATE:20231109
END:VEVENT
BEGIN:VEVENT
TRANSP:TRANSPARENT
UID:event-303@mhh-hno.events
URL:https://mhh-hno.events/calendar/event/349-norddeutscher-hno-kongress/
DTSTART;VALUE=DATE:20240614
DTSTAMP:20240614T000000Z
CREATED:20240614T000000Z
SUMMARY:Norddeutscher HNO-Kongress
DESCRIPTION:Zur Website der Norddeutschen HNO-Gesellschaft [URL:https://www
 .ndg-hno.de/]
DTEND;VALUE=DATE:20240616
END:VEVENT
BEGIN:VEVENT
TRANSP:TRANSPARENT
UID:event-305@mhh-hno.events
URL:https://mhh-hno.events/calendar/event/351-bmt-2024/
DTSTART;VALUE=DATE:20240918
DTSTAMP:20240918T000000Z
CREATED:20240918T000000Z
SUMMARY:BMT 2024
DESCRIPTION:https://www.vde.com/bmt
DTEND;VALUE=DATE:20240921
END:VEVENT
BEGIN:VEVENT
TRANSP:TRANSPARENT
UID:event-327@mhh-hno.events
URL:https://mhh-hno.events/calendar/event/373-regionsentdeckertag/
DTSTART;VALUE=DATE:20250914
DTSTAMP:20250914T000000Z
CREATED:20250914T000000Z
SUMMARY:Regionsentdeckertag
DESCRIPTION:weitere Informationen unter https://www.entdeckertag.de/
DTEND;VALUE=DATE:20250915
END:VEVENT
BEGIN:VEVENT
TRANSP:TRANSPARENT
UID:event-333@mhh-hno.events
URL:https://mhh-hno.events/calendar/event/379-sommerfest-der-hcig/
DTSTART;VALUE=DATE:20250705
DTSTAMP:20250705T000000Z
CREATED:20250705T000000Z
SUMMARY:Sommerfest der HCIG
DESCRIPTION:Lust auf ein Treffen mit alten und neuen Freunden? Auf dem HCIG
  Sommerfest ist es möglich!\n\nProgramm & Anmeldeformular herunterladen [UR
 L:https://www.hcig.de/fileadmin/Dateien/Downloads/HCIG-Sommerfest_2025.pdf]
 
DTEND;VALUE=DATE:20250706
END:VEVENT
BEGIN:VEVENT
TRANSP:OPAQUE
UID:event-353@mhh-hno.events
URL:https://mhh-hno.events/calendar/event/399-sommerfest-der-hcig/
DTSTART:20260704T080000Z
DTSTAMP:20260704T080000Z
CREATED:20260704T080000Z
SUMMARY:Sommerfest der HCIG
DESCRIPTION:Weitere Informationen: https://www.hcig.de/termine/termine-deta
 il/jubilaeums-sommerfest-2026
DTEND:20260704T160000Z
END:VEVENT
END:VCALENDAR
