BEGIN:VCALENDAR
METHOD:PUBLISH
VERSION:2.0
PRODID:-//WoltLab GmbH//WoltLab Suite Calendar 5.4//EN
CALSCALE:GREGORIAN
X-WR-CALNAME;VALUE=TEXT:Hearing4all Research
BEGIN:VEVENT
TRANSP:TRANSPARENT
UID:event-129@mhh-hno.events
URL:https://mhh-hno.events/calendar/event/129-winter-plenary-meeting/
DTSTART;VALUE=DATE:20200116
DTSTAMP:20200116T000000Z
CREATED:20200116T000000Z
SUMMARY:Winter Plenary Meeting
DESCRIPTION:Vollversammlung des Exzellenzclusters Hearing4all
LOCATION:29614 Soltau\, Deutschland
GEO:52.9846916;9.8421249
DTEND;VALUE=DATE:20200118
END:VEVENT
BEGIN:VEVENT
TRANSP:TRANSPARENT
UID:event-145@mhh-hno.events
URL:https://mhh-hno.events/calendar/event/145-hearing4all-international-sym
 posium/
DTSTART;VALUE=DATE:20201105
DTSTAMP:20201105T000000Z
CREATED:20201105T000000Z
SUMMARY:Hearing4all International Symposium
DESCRIPTION:Internationales Symposium des Exzellenzclusters Hearing4all in 
 Oldenburg
LOCATION:Oldenburg\, Deutschland
GEO:53.1434517;8.2145519
DTEND;VALUE=DATE:20201107
END:VEVENT
BEGIN:VEVENT
TRANSP:TRANSPARENT
UID:event-159@mhh-hno.events
URL:https://mhh-hno.events/calendar/event/159-h4a-winter-plenary-meeting/
DTSTART;VALUE=DATE:20210129
DTSTAMP:20210129T000000Z
CREATED:20210129T000000Z
SUMMARY:H4a Winter Plenary Meeting
DESCRIPTION:Vollversammlung des Exzellenzclusters Hearing4all\n\nIm Online-
 Stream
DTEND;VALUE=DATE:20210130
END:VEVENT
BEGIN:VEVENT
TRANSP:TRANSPARENT
UID:event-168@mhh-hno.events
URL:https://mhh-hno.events/calendar/event/168-sommer-plenar-treffen-hearing
 4all-und-sommerschule-h%C3%B6ren/
DTSTART;VALUE=DATE:20210706
DTSTAMP:20210706T000000Z
CREATED:20210706T000000Z
SUMMARY:Sommer Plenar-Treffen Hearing4all und Sommerschule „Hören“
DESCRIPTION:Gemeinsame Sommerschule der PhD-Programme „Hören“ und „Auditory
  Sciences“ des Exzellenzclusters „Hearing4all“
DTEND;VALUE=DATE:20210710
END:VEVENT
BEGIN:VEVENT
TRANSP:TRANSPARENT
UID:event-174@mhh-hno.events
URL:https://mhh-hno.events/calendar/event/174-h4a-international-symposium/
DTSTART;VALUE=DATE:20211104
DTSTAMP:20211104T000000Z
CREATED:20211104T000000Z
SUMMARY:H4A International Symposium
DESCRIPTION:Internationales Symposium des Exzellenzclusters Hearing4all in 
 Oldenburg
DTEND;VALUE=DATE:20211106
END:VEVENT
BEGIN:VEVENT
TRANSP:OPAQUE
UID:event-193@mhh-hno.events
URL:https://mhh-hno.events/calendar/event/239-hearing4all-winter-plenartref
 fen/
DTSTART:20220127T070000Z
DTSTAMP:20220127T070000Z
CREATED:20220127T070000Z
SUMMARY:Hearing4all - Winter Plenartreffen
DESCRIPTION:Vollversammlung des Exzellenzclusters Hearing4all.
DTEND:20220128T170000Z
END:VEVENT
BEGIN:VEVENT
TRANSP:OPAQUE
UID:event-199@mhh-hno.events
URL:https://mhh-hno.events/calendar/event/245-deutscher-hno-kongress-2022/
DTSTART:20220525T060000Z
DTSTAMP:20220525T060000Z
CREATED:20220525T060000Z
SUMMARY:Deutscher HNO-Kongress 2022
DESCRIPTION:Der Exzellenzcluster Hearing4all präsentiert sich beim diesjähr
 igen Deutschen HNO-Kongress\, der im Convention Center auf dem Messegelände
  Hannover abgehalten wird.\n\nMehr zum Kongress der DGHNO unter http://www.
 hno.org/2022
DTEND:20220528T180000Z
END:VEVENT
BEGIN:VEVENT
TRANSP:TRANSPARENT
UID:event-228@mhh-hno.events
URL:https://mhh-hno.events/calendar/event/274-hearing4all-summer-school-ple
 nary-meeting/
DTSTART;VALUE=DATE:20220628
DTSTAMP:20220628T000000Z
CREATED:20220628T000000Z
SUMMARY:Hearing4all Summer School & Plenary Meeting
DESCRIPTION:Gemeinsame Sommerschule der PhD-Programme „Hören“ und „Auditory
  Sciences“ des Exzellenzclusters „Hearing4all“
DTEND;VALUE=DATE:20220702
END:VEVENT
BEGIN:VEVENT
TRANSP:TRANSPARENT
UID:event-249@mhh-hno.events
URL:https://mhh-hno.events/calendar/event/295-hearing4all-international-sym
 posium/
DTSTART;VALUE=DATE:20221103
DTSTAMP:20221103T000000Z
CREATED:20221103T000000Z
SUMMARY:Hearing4all International Symposium
DESCRIPTION:Internationales Symposium des Exzellenzclusters Hearing4all in 
 Hannover\n\nAnmeldung über: https://eveeno.com/278528121
DTEND;VALUE=DATE:20221105
END:VEVENT
BEGIN:VEVENT
TRANSP:OPAQUE
UID:event-263@mhh-hno.events
URL:https://mhh-hno.events/calendar/event/309-hearing4all-winter-plenary-me
 eting/
DTSTART:20230112T130000Z
DTSTAMP:20230112T130000Z
CREATED:20230112T130000Z
SUMMARY:Hearing4all - Winter Plenary Meeting
DTEND:20230113T121500Z
END:VEVENT
BEGIN:VEVENT
TRANSP:TRANSPARENT
UID:event-288@mhh-hno.events
URL:https://mhh-hno.events/calendar/event/334-hearing4all-summer-school-ple
 nary-meeting/
DTSTART;VALUE=DATE:20230627
DTSTAMP:20230627T000000Z
CREATED:20230627T000000Z
SUMMARY:Hearing4all Summer School & Plenary Meeting
DESCRIPTION:Gemeinsame Sommerschule der PhD-Programme „Hören“ und „Auditory
  Sciences“ des Exzellenzclusters „Hearing4all“ und Plenartreffen (27.-28. J
 uni)
DTEND;VALUE=DATE:20230701
END:VEVENT
BEGIN:VEVENT
TRANSP:TRANSPARENT
UID:event-296@mhh-hno.events
URL:https://mhh-hno.events/calendar/event/342-winter-plenary-meeting/
DTSTART;VALUE=DATE:20240111
DTSTAMP:20240111T000000Z
CREATED:20240111T000000Z
SUMMARY:Winter Plenary Meeting
DESCRIPTION:Vollversammlung des Exzellenzclusters Hearing4all
DTEND;VALUE=DATE:20240113
END:VEVENT
BEGIN:VEVENT
TRANSP:TRANSPARENT
UID:event-315@mhh-hno.events
URL:https://mhh-hno.events/calendar/event/361-hearing4all-winter-plenary-me
 eting/
DTSTART;VALUE=DATE:20250113
DTSTAMP:20250113T000000Z
CREATED:20250113T000000Z
SUMMARY:Hearing4all Winter Plenary Meeting
DESCRIPTION:Vollversammlung des Exzellenzclusters Hearing4all
DTEND;VALUE=DATE:20250115
END:VEVENT
BEGIN:VEVENT
TRANSP:TRANSPARENT
UID:event-325@mhh-hno.events
URL:https://mhh-hno.events/calendar/event/371-hearing4all-summer-school-ple
 nary-meeting/
DTSTART;VALUE=DATE:20250624
DTSTAMP:20250624T000000Z
CREATED:20250624T000000Z
SUMMARY:Hearing4all Summer School & Plenary Meeting
DESCRIPTION:Gemeinsame Sommerschule der PhD-Programme „Hören“ und „Auditory
  Sciences“ des Exzellenzclusters „Hearing4all“ und Plenartreffen
DTEND;VALUE=DATE:20250628
END:VEVENT
BEGIN:VEVENT
TRANSP:TRANSPARENT
UID:event-359@mhh-hno.events
URL:https://mhh-hno.events/calendar/event/405-hearing4all-symposium/
DTSTART;VALUE=DATE:20261119
DTSTAMP:20261119T000000Z
CREATED:20261119T000000Z
SUMMARY:Hearing4all Symposium
DTEND;VALUE=DATE:20261121
END:VEVENT
END:VCALENDAR
