BEGIN:VCALENDAR
METHOD:PUBLISH
VERSION:2.0
PRODID:-//WoltLab GmbH//WoltLab Suite Calendar 5.4//EN
CALSCALE:GREGORIAN
X-WR-CALNAME;VALUE=TEXT:24. Hannoverscher CI-Kongress
BEGIN:VEVENT
TRANSP:TRANSPARENT
UID:event-184@mhh-hno.events
URL:https://mhh-hno.events/calendar/event/184-24-hannoverscher-ci-kongress/
DTSTART;VALUE=DATE:20220826
DTSTAMP:20220826T000000Z
CREATED:20220826T000000Z
SUMMARY:24. Hannoverscher CI-Kongress
DESCRIPTION:Norddeutschlands größter Kongress zum Thema \"Cochlea-Implantat
 ion\". Für Betroffene\, Angehörige und Fachpersonal!\n\nweitere Information
 en\, Programmflyer und Tickets auf https://www.ci-kongress.de
DTEND;VALUE=DATE:20220828
END:VEVENT
END:VCALENDAR
