BEGIN:VCALENDAR
METHOD:PUBLISH
VERSION:2.0
PRODID:-//WoltLab GmbH//WoltLab Suite Calendar 5.4//EN
CALSCALE:GREGORIAN
X-WR-CALNAME;VALUE=TEXT:Otology Update 2022
BEGIN:VEVENT
TRANSP:TRANSPARENT
UID:event-187@mhh-hno.events
URL:https://mhh-hno.events/calendar/event/233-otology-update-2022/
DTSTART;VALUE=DATE:20221018
DTSTAMP:20221018T000000Z
CREATED:20221018T000000Z
SUMMARY:Otology Update 2022
DESCRIPTION:25. Internationaler Operationskurs für Mittelohr- und Schädelba
 sischirurgie\, inkl. Mittelohr- und Innenohrimplantate mit praktischen Übun
 gen. Internationale Fakultät in Kooperation mit LION (Live International Ot
 olaryngology Network)\, DGSB (Deutsche Gesellschaft f. Schädelbasischirurgi
 e)\, European Skull Base Society (ESBS) und European Academy of Otology & N
 euro-Otology (EAONO)
DTEND;VALUE=DATE:20221022
END:VEVENT
END:VCALENDAR
