BEGIN:VCALENDAR
METHOD:PUBLISH
VERSION:2.0
PRODID:-//WoltLab GmbH//WoltLab Suite Calendar 5.4//EN
CALSCALE:GREGORIAN
X-WR-CALNAME;VALUE=TEXT:Hannover Hearing Implant Symposium
BEGIN:VEVENT
TRANSP:OPAQUE
UID:event-198@mhh-hno.events
URL:https://mhh-hno.events/calendar/event/244-hannover-hearing-implant-symp
 osium/
DTSTART:20220512T060000Z
DTSTAMP:20220512T060000Z
CREATED:20220512T060000Z
SUMMARY:Hannover Hearing Implant Symposium
DESCRIPTION:Internationales Symposium mit Workshop zu implantierbaren Hörsy
 stemen in Zusammenarbeit mit MED-EL.
DTEND:20220515T180000Z
END:VEVENT
END:VCALENDAR
