BEGIN:VCALENDAR
METHOD:PUBLISH
VERSION:2.0
PRODID:-//WoltLab GmbH//WoltLab Suite Calendar 5.4//EN
CALSCALE:GREGORIAN
X-WR-CALNAME;VALUE=TEXT:Deutscher HNO-Kongress 2022
BEGIN:VEVENT
TRANSP:OPAQUE
UID:event-199@mhh-hno.events
URL:https://mhh-hno.events/calendar/event/245-deutscher-hno-kongress-2022/
DTSTART:20220525T060000Z
DTSTAMP:20220525T060000Z
CREATED:20220525T060000Z
SUMMARY:Deutscher HNO-Kongress 2022
DESCRIPTION:Der Exzellenzcluster Hearing4all präsentiert sich beim diesjähr
 igen Deutschen HNO-Kongress\, der im Convention Center auf dem Messegelände
  Hannover abgehalten wird.\n\nMehr zum Kongress der DGHNO unter http://www.
 hno.org/2022
DTEND:20220528T180000Z
END:VEVENT
END:VCALENDAR
