BEGIN:VCALENDAR
METHOD:PUBLISH
VERSION:2.0
PRODID:-//WoltLab GmbH//WoltLab Suite Calendar 5.4//EN
CALSCALE:GREGORIAN
X-WR-CALNAME;VALUE=TEXT:Akustikusneurinom: \"Jetzt oder später?\" - Von der
  Therapie bis zur Nachsorge
BEGIN:VEVENT
TRANSP:OPAQUE
UID:event-203@mhh-hno.events
URL:https://mhh-hno.events/calendar/event/249-akustikusneurinom-jetzt-oder-
 sp%C3%A4ter-von-der-therapie-bis-zur-nachsorge/
DTSTART:20220426T160000Z
DTSTAMP:20220426T160000Z
CREATED:20220426T160000Z
SUMMARY:Akustikusneurinom: \"Jetzt oder später?\" - Von der Therapie bis zu
 r Nachsorge
DESCRIPTION:Jetzt oder später? Der richtige Zeitpunkt für eine Therapie und
  Auswirkungen auf die Hörergebnisse\n\nProf. Thomas Lenarz\, Direktor der H
 NO-Klinik und des Deutschen HörZentrums Hannover der MHH\n\nKostenfreies We
 binar für Betroffene und Interessierte\n\nAnmeldungen über eveeno.de [URL:h
 ttps://eveeno.com/281317429]
DTEND:20220426T170000Z
END:VEVENT
END:VCALENDAR
