BEGIN:VCALENDAR
METHOD:PUBLISH
VERSION:2.0
PRODID:-//WoltLab GmbH//WoltLab Suite Calendar 5.4//EN
CALSCALE:GREGORIAN
X-WR-CALNAME;VALUE=TEXT:Akustikusneurinom: \"Die Macht der DNS\" - Von der 
 Therapie bis zur Nachsorge
BEGIN:VEVENT
TRANSP:OPAQUE
UID:event-204@mhh-hno.events
URL:https://mhh-hno.events/calendar/event/250-akustikusneurinom-die-macht-d
 er-dns-von-der-therapie-bis-zur-nachsorge/
DTSTART:20220503T160000Z
DTSTAMP:20220503T160000Z
CREATED:20220503T160000Z
SUMMARY:Akustikusneurinom: \"Die Macht der DNS\" - Von der Therapie bis zur
  Nachsorge
DESCRIPTION:Die Macht der DNS: Einfluss unserer Genetik auf Akustikusneurin
 om\, Krebs und NF2\n\nProf. Ruthild Weber\, Teamleitung Neuroonkogenetik am
  Institut für Humangenetik der MHH\n\nKostenfreies Webinar für Betroffene u
 nd Interessierte\n\nAnmeldungen über eveeno.de [URL:https://eveeno.com/1293
 44431]
DTEND:20220503T170000Z
END:VEVENT
END:VCALENDAR
