BEGIN:VCALENDAR
METHOD:PUBLISH
VERSION:2.0
PRODID:-//WoltLab GmbH//WoltLab Suite Calendar 5.4//EN
CALSCALE:GREGORIAN
X-WR-CALNAME;VALUE=TEXT:HNO-Plenum
BEGIN:VEVENT
TRANSP:OPAQUE
UID:event-218@mhh-hno.events
URL:https://mhh-hno.events/calendar/event/264-hno-plenum/
DTSTART:20220510T180000Z
DTSTAMP:20220510T180000Z
CREATED:20220510T180000Z
SUMMARY:HNO-Plenum
DESCRIPTION:Das Kopf-Hals-Tumorzentrum im Comprehensive Cancer Center Niede
 rsachsen / Gemeinsame Veranstaltung des Berufsverbandes der Hals-Nasen-Ohre
 närzte mit der MHH
DTEND:20220510T200000Z
END:VEVENT
END:VCALENDAR
