BEGIN:VCALENDAR
METHOD:PUBLISH
VERSION:2.0
PRODID:-//WoltLab GmbH//WoltLab Suite Calendar 5.4//EN
CALSCALE:GREGORIAN
X-WR-CALNAME;VALUE=TEXT:Hearing4all Summer School & Plenary Meeting
BEGIN:VEVENT
TRANSP:TRANSPARENT
UID:event-228@mhh-hno.events
URL:https://mhh-hno.events/calendar/event/274-hearing4all-summer-school-ple
 nary-meeting/
DTSTART;VALUE=DATE:20220628
DTSTAMP:20220628T000000Z
CREATED:20220628T000000Z
SUMMARY:Hearing4all Summer School & Plenary Meeting
DESCRIPTION:Gemeinsame Sommerschule der PhD-Programme „Hören“ und „Auditory
  Sciences“ des Exzellenzclusters „Hearing4all“
DTEND;VALUE=DATE:20220702
END:VEVENT
END:VCALENDAR
