BEGIN:VCALENDAR
METHOD:PUBLISH
VERSION:2.0
PRODID:-//WoltLab GmbH//WoltLab Suite Calendar 5.4//EN
CALSCALE:GREGORIAN
X-WR-CALNAME;VALUE=TEXT:Grand Round für HNO-Ärzte
BEGIN:VEVENT
TRANSP:OPAQUE
UID:event-235@mhh-hno.events
URL:https://mhh-hno.events/calendar/event/281-grand-round-f%C3%BCr-hno-%C3%
 A4rzte/
DTSTART:20220822T060000Z
DTSTAMP:20220822T060000Z
CREATED:20220822T060000Z
SUMMARY:Grand Round für HNO-Ärzte
DESCRIPTION:Fortbildung für (niedergelassene) HNO-Ärzte\, zertifiziert durc
 h die Ärztekammer Niedersachsen mit 1 Punkt.\n\nAktuelles Thema: Codiereval
 uation 2. Quartal
DTEND:20220822T070000Z
END:VEVENT
END:VCALENDAR
