BEGIN:VCALENDAR
METHOD:PUBLISH
VERSION:2.0
PRODID:-//WoltLab GmbH//WoltLab Suite Calendar 5.4//EN
CALSCALE:GREGORIAN
X-WR-CALNAME;VALUE=TEXT:Ultraschall Aufbaukurs
BEGIN:VEVENT
TRANSP:TRANSPARENT
UID:event-250@mhh-hno.events
URL:https://mhh-hno.events/calendar/event/296-ultraschall-aufbaukurs/
DTSTART;VALUE=DATE:20221111
DTSTAMP:20221111T000000Z
CREATED:20221111T000000Z
SUMMARY:Ultraschall Aufbaukurs
DESCRIPTION:Informationen folgen\n\nLink zum Ticketshop [URL:https://eveeno
 .com/828767085]
DTEND;VALUE=DATE:20221113
END:VEVENT
END:VCALENDAR
