BEGIN:VCALENDAR
METHOD:PUBLISH
VERSION:2.0
PRODID:-//WoltLab GmbH//WoltLab Suite Calendar 5.4//EN
CALSCALE:GREGORIAN
X-WR-CALNAME;VALUE=TEXT:Grundkurs Allergologie
BEGIN:VEVENT
TRANSP:TRANSPARENT
UID:event-252@mhh-hno.events
URL:https://mhh-hno.events/calendar/event/298-grundkurs-allergologie/
DTSTART;VALUE=DATE:20221118
DTSTAMP:20221118T000000Z
CREATED:20221118T000000Z
SUMMARY:Grundkurs Allergologie
DESCRIPTION:Link zum Ticketshop [URL:https://eveeno.com/229190633]
DTEND;VALUE=DATE:20221120
END:VEVENT
END:VCALENDAR
