BEGIN:VCALENDAR
METHOD:PUBLISH
VERSION:2.0
PRODID:-//WoltLab GmbH//WoltLab Suite Calendar 5.4//EN
CALSCALE:GREGORIAN
X-WR-CALNAME;VALUE=TEXT:HörFidelity: Erlebnisse und Infos rund ums Ohr
BEGIN:VEVENT
TRANSP:TRANSPARENT
UID:event-264@mhh-hno.events
URL:https://mhh-hno.events/calendar/event/310-h%C3%B6rfidelity-erlebnisse-u
 nd-infos-rund-ums-ohr/
DTSTART;VALUE=DATE:20230218
DTSTAMP:20230218T000000Z
CREATED:20230218T000000Z
SUMMARY:HörFidelity: Erlebnisse und Infos rund ums Ohr
DESCRIPTION:„Ohrlebnisse“ für die ganze Familie im Kulturzentrum Pavillon i
 n Hannover. Zwei Tage lang dreht sich alles um Schall und Klang – mit viele
 n Mitmachaktionen\, Konzerten\, Beratungsangeboten\, Hörtests\, Vorträgen u
 nd einer Erlebnismesse rund ums Hören. Das DHZ ist mit Vorträgen und einem 
 Aktionsstand vertreten.\n\nDer Eintritt ist frei.\n\nSamstag ab 14 Uhr\, So
 nntag ab 11 Uhr
LOCATION:Lister Meile 4\, 30161 Hannover\, Deutschland
GEO:52.3806801;9.7450867
DTEND;VALUE=DATE:20230220
END:VEVENT
END:VCALENDAR
