BEGIN:VCALENDAR
METHOD:PUBLISH
VERSION:2.0
PRODID:-//WoltLab GmbH//WoltLab Suite Calendar 5.4//EN
CALSCALE:GREGORIAN
X-WR-CALNAME;VALUE=TEXT:Otology Update
BEGIN:VEVENT
TRANSP:OPAQUE
UID:event-276@mhh-hno.events
URL:https://mhh-hno.events/calendar/event/322-otology-update/
DTSTART:20231017T060000Z
DTSTAMP:20231017T060000Z
CREATED:20231017T060000Z
SUMMARY:Otology Update
DESCRIPTION:25. Internationaler Operationskurs für Mittelohr- und Schädelba
 sischirurgie\, inkl. Mittelohr- und Innenohrimplantate mit praktischen Übun
 gen. Internationale Fakultät in Kooperation mit LION (Live International Ot
 olaryngology Network)\, DGSB (Deutsche Gesellschaft f. Schädelbasischirurgi
 e)\, European Skull Base Society (ESBS) und European Academy of Otology & N
 euro-Otology (EAONO)
DTEND:20231020T160000Z
END:VEVENT
END:VCALENDAR
