BEGIN:VCALENDAR
METHOD:PUBLISH
VERSION:2.0
PRODID:-//WoltLab GmbH//WoltLab Suite Calendar 5.4//EN
CALSCALE:GREGORIAN
X-WR-CALNAME;VALUE=TEXT:Eltern-Infoabend: Hörgeräte und Cochlea-Implantat b
 ei Kindern
BEGIN:VEVENT
TRANSP:OPAQUE
UID:event-282@mhh-hno.events
URL:https://mhh-hno.events/calendar/event/328-eltern-infoabend-h%C3%B6rger%
 C3%A4te-und-cochlea-implantat-bei-kindern/
DTSTART:20231211T190000Z
DTSTAMP:20231211T190000Z
CREATED:20231211T190000Z
SUMMARY:Eltern-Infoabend: Hörgeräte und Cochlea-Implantat bei Kindern
DESCRIPTION:Achtung: verschoben auf den 11. Dezember!\n\nDieser Information
 sabend richtet sich an Eltern\, die vor kurzem die Diagnose Hörschädigung e
 rhalten und nun viele Fragen haben\, deren Kind schon ein oder zwei Hörgerä
 te trägt\, die aber möglicherweise nicht ausreichen\, um gut Sprache zu ver
 stehen.\n\nAnmeldung kostenfrei unter:\n\nJetzt anmelden » [URL:https://eve
 eno.com/779851019]
DTEND:20231211T203000Z
END:VEVENT
END:VCALENDAR
