BEGIN:VCALENDAR
METHOD:PUBLISH
VERSION:2.0
PRODID:-//WoltLab GmbH//WoltLab Suite Calendar 5.4//EN
CALSCALE:GREGORIAN
X-WR-CALNAME;VALUE=TEXT:33 Jahre CIC \"Wilhelm Hirte\"
BEGIN:VEVENT
TRANSP:OPAQUE
UID:event-286@mhh-hno.events
URL:https://mhh-hno.events/calendar/event/332-33-jahre-cic-wilhelm-hirte/
DTSTART:20230610T100000Z
DTSTAMP:20230610T100000Z
CREATED:20230610T100000Z
SUMMARY:33 Jahre CIC \"Wilhelm Hirte\"
DESCRIPTION:Aktionsstand des DHZ
LOCATION:CIC\, Gehägestr. 28-30\, Hannover
DTEND:20230610T150000Z
END:VEVENT
END:VCALENDAR
