BEGIN:VCALENDAR
METHOD:PUBLISH
VERSION:2.0
PRODID:-//WoltLab GmbH//WoltLab Suite Calendar 5.4//EN
CALSCALE:GREGORIAN
X-WR-CALNAME;VALUE=TEXT:HCIG- Technikseminar (Cochlear)
BEGIN:VEVENT
TRANSP:OPAQUE
UID:event-290@mhh-hno.events
URL:https://mhh-hno.events/calendar/event/336-hcig-technikseminar-cochlear/
DTSTART:20231007T070000Z
DTSTAMP:20231007T070000Z
CREATED:20231007T070000Z
SUMMARY:HCIG- Technikseminar (Cochlear)
DESCRIPTION:Technisches Anwenderseminar für CI-Patienten mit einem System v
 on Cochlear\n\nWeitere Informationen unter: http://www.hcig.de
DTEND:20231007T140000Z
END:VEVENT
END:VCALENDAR
