BEGIN:VCALENDAR
METHOD:PUBLISH
VERSION:2.0
PRODID:-//WoltLab GmbH//WoltLab Suite Calendar 5.4//EN
CALSCALE:GREGORIAN
X-WR-CALNAME;VALUE=TEXT:HCIG Technikseminar
BEGIN:VEVENT
TRANSP:OPAQUE
UID:event-298@mhh-hno.events
URL:https://mhh-hno.events/calendar/event/344-hcig-technikseminar/
DTSTART:20240316T090000Z
DTSTAMP:20240316T090000Z
CREATED:20240316T090000Z
SUMMARY:HCIG Technikseminar
LOCATION:Karl-Wiechert-Allee 3\, 30625 Hannover\, Deutschland
GEO:52.3834724;9.8095522
DTEND:20240316T150000Z
END:VEVENT
END:VCALENDAR
