BEGIN:VCALENDAR
METHOD:PUBLISH
VERSION:2.0
PRODID:-//WoltLab GmbH//WoltLab Suite Calendar 5.4//EN
CALSCALE:GREGORIAN
X-WR-CALNAME;VALUE=TEXT:Eltern-Infoabend: Hörgeräte und Cochlea-Implantat b
 ei Kindern
BEGIN:VEVENT
TRANSP:OPAQUE
UID:event-308@mhh-hno.events
URL:https://mhh-hno.events/calendar/event/354-eltern-infoabend-h%C3%B6rger%
 C3%A4te-und-cochlea-implantat-bei-kindern/
DTSTART:20241202T190000Z
DTSTAMP:20241202T190000Z
CREATED:20241202T190000Z
SUMMARY:Eltern-Infoabend: Hörgeräte und Cochlea-Implantat bei Kindern
DESCRIPTION:Dieser Informationsabend richtet sich an Eltern\, die vor kurze
 m die Diagnose Hörschädigung erhalten und nun viele Fragen haben\, deren Ki
 nd schon ein oder zwei Hörgeräte trägt\, die aber möglicherweise nicht ausr
 eichen\, um gut Sprache zu verstehen.\n\nAnmeldung über eveeno.com [URL:htt
 ps://eveeno.com/224145099]
DTEND:20241202T203000Z
END:VEVENT
END:VCALENDAR
