BEGIN:VCALENDAR
METHOD:PUBLISH
VERSION:2.0
PRODID:-//WoltLab GmbH//WoltLab Suite Calendar 5.4//EN
CALSCALE:GREGORIAN
X-WR-CALNAME;VALUE=TEXT:Die MHH im Herzen der Stadt
BEGIN:VEVENT
TRANSP:TRANSPARENT
UID:event-310@mhh-hno.events
URL:https://mhh-hno.events/calendar/event/356-die-mhh-im-herzen-der-stadt/
DTSTART;VALUE=DATE:20240206
DTSTAMP:20240206T000000Z
CREATED:20240206T000000Z
SUMMARY:Die MHH im Herzen der Stadt
DESCRIPTION:Die HNO-Klinik ist dabei\, wenn die MHH in den Aufhof Hannover 
 lädt.\n\nMit spannenden Exponaten und Vorträgen stellen wir unser Fachgebie
 t vor.\n\nAnreise und Weiteres unter mhh.de/aufhof [URL:https://mhh.de/aufh
 of/]
DTEND;VALUE=DATE:20240207
END:VEVENT
END:VCALENDAR
