BEGIN:VCALENDAR
METHOD:PUBLISH
VERSION:2.0
PRODID:-//WoltLab GmbH//WoltLab Suite Calendar 5.4//EN
CALSCALE:GREGORIAN
X-WR-CALNAME;VALUE=TEXT:MHH im aufhof
BEGIN:VEVENT
TRANSP:OPAQUE
UID:event-312@mhh-hno.events
URL:https://mhh-hno.events/calendar/event/358-mhh-im-aufhof/
DTSTART:20240210T090000Z
DTSTAMP:20240210T090000Z
CREATED:20240210T090000Z
SUMMARY:MHH im aufhof
DESCRIPTION:Unser Aktionsstand der HNO-Klinik und des Exzellenzclusters Hea
 ring4all.\n\nMehr zum Programm: https://mhh.de/aufhof/
LOCATION:aufhof Hannover
DTEND:20240210T190000Z
END:VEVENT
END:VCALENDAR
