BEGIN:VCALENDAR
METHOD:PUBLISH
VERSION:2.0
PRODID:-//WoltLab GmbH//WoltLab Suite Calendar 5.4//EN
CALSCALE:GREGORIAN
X-WR-CALNAME;VALUE=TEXT:Heiserkeit: Harmlos oder ernsthaftes Symptom?
BEGIN:VEVENT
TRANSP:OPAQUE
UID:event-314@mhh-hno.events
URL:https://mhh-hno.events/calendar/event/360-heiserkeit-harmlos-oder-ernst
 haftes-symptom/
DTSTART:20240916T150000Z
DTSTAMP:20240916T150000Z
CREATED:20240916T150000Z
SUMMARY:Heiserkeit: Harmlos oder ernsthaftes Symptom?
DESCRIPTION:Heiserkeit - harmlos oder ein ernstes Symptom? Dieser Informati
 onsabend findet im Rahmen der Make Sense Campaign Fokuswoche der Deutschen 
 Krebsgesellschaft und der Europäischen Gesellschaft der Kopf-Halschirurgie 
 statt. Mehr Informationen finden Sie auch hier: https://www.aufklaerung-kop
 f-hals-krebs.de/startseite.html\n\nAnmeldung kostenlos unter: https://eveen
 o.com/291452622
DTEND:20240916T160000Z
END:VEVENT
END:VCALENDAR
