BEGIN:VCALENDAR
METHOD:PUBLISH
VERSION:2.0
PRODID:-//WoltLab GmbH//WoltLab Suite Calendar 5.4//EN
CALSCALE:GREGORIAN
X-WR-CALNAME;VALUE=TEXT:Otology Update
BEGIN:VEVENT
TRANSP:TRANSPARENT
UID:event-317@mhh-hno.events
URL:https://mhh-hno.events/calendar/event/363-otology-update/
DTSTART;VALUE=DATE:20250407
DTSTAMP:20250407T000000Z
CREATED:20250407T000000Z
SUMMARY:Otology Update
DESCRIPTION:28. Internationaler Operationskurs für Mittelohr- und Schädelba
 sischirurgie\, inkl. Mittelohr- und Innenohrimplantate mit praktischen Übun
 gen. Internationale Fakultät in Kooperation mit LION (Live International Ot
 olaryngology Network)\, DGSB (Deutsche Gesellschaft f. Schädelbasischirurgi
 e)\, European Skull Base Society (ESBS) und European Academy of Otology & N
 euro-Otology (EAONO)\n\nmehr Informationen unter mhh.de [URL:https://www.mh
 h.de/hno/events/otology-update]
DTEND;VALUE=DATE:20250412
END:VEVENT
END:VCALENDAR
