BEGIN:VCALENDAR
METHOD:PUBLISH
VERSION:2.0
PRODID:-//WoltLab GmbH//WoltLab Suite Calendar 5.4//EN
CALSCALE:GREGORIAN
X-WR-CALNAME;VALUE=TEXT:Eltern-Infoabend: Hörgeräte und Cochlea-Implantat b
 ei Kindern
BEGIN:VEVENT
TRANSP:OPAQUE
UID:event-321@mhh-hno.events
URL:https://mhh-hno.events/calendar/event/367-eltern-infoabend-h%C3%B6rger%
 C3%A4te-und-cochlea-implantat-bei-kindern/
DTSTART:20250324T190000Z
DTSTAMP:20250324T190000Z
CREATED:20250324T190000Z
SUMMARY:Eltern-Infoabend: Hörgeräte und Cochlea-Implantat bei Kindern
DESCRIPTION:weitere Informationen unter https://www.dhz.clinic/service/elte
 rn-infoabend
DTEND:20250324T200000Z
END:VEVENT
END:VCALENDAR
