BEGIN:VCALENDAR
METHOD:PUBLISH
VERSION:2.0
PRODID:-//WoltLab GmbH//WoltLab Suite Calendar 5.4//EN
CALSCALE:GREGORIAN
X-WR-CALNAME;VALUE=TEXT:Eltern-Infoabend: Hörgeräte und Cochlea-Implantat b
 ei Kindern
BEGIN:VEVENT
TRANSP:OPAQUE
UID:event-324@mhh-hno.events
URL:https://mhh-hno.events/calendar/event/370-eltern-infoabend-h%C3%B6rger%
 C3%A4te-und-cochlea-implantat-bei-kindern/
DTSTART:20250602T180000Z
DTSTAMP:20250602T180000Z
CREATED:20250602T180000Z
SUMMARY:Eltern-Infoabend: Hörgeräte und Cochlea-Implantat bei Kindern
DESCRIPTION:Dieser Informationsabend richtet sich an Eltern\, die vor kurze
 m die Diagnose Hörschädigung erhalten und nun viele Fragen haben\, deren Ki
 nd schon ein oder zwei Hörgeräte trägt\, die aber möglicherweise nicht ausr
 eichen\, um gut Sprache zu verstehen.\n\nweitere Informationen und Anmeldun
 g unter https://www.dhz.clinic/service/eltern-infoabend
DTEND:20250602T190000Z
END:VEVENT
END:VCALENDAR
