BEGIN:VCALENDAR
METHOD:PUBLISH
VERSION:2.0
PRODID:-//WoltLab GmbH//WoltLab Suite Calendar 5.4//EN
CALSCALE:GREGORIAN
X-WR-CALNAME;VALUE=TEXT:10 Jahre Hörregion und 3. Hörfest
BEGIN:VEVENT
TRANSP:TRANSPARENT
UID:event-345@mhh-hno.events
URL:https://mhh-hno.events/calendar/event/391-10-jahre-h%C3%B6rregion-und-3
 -h%C3%B6rfest/
DTSTART;VALUE=DATE:20260531
DTSTAMP:20260531T000000Z
CREATED:20260531T000000Z
SUMMARY:10 Jahre Hörregion und 3. Hörfest
DESCRIPTION:Das 10-jährige Bestehen der Hörregion Hannover wird mit einem g
 roßen Hörfest auf dem Waldberg Empelde gefeiert.
DTEND;VALUE=DATE:20260601
END:VEVENT
END:VCALENDAR
