BEGIN:VCALENDAR
METHOD:PUBLISH
VERSION:2.0
PRODID:-//WoltLab GmbH//WoltLab Suite Calendar 5.4//EN
CALSCALE:GREGORIAN
X-WR-CALNAME;VALUE=TEXT:Hörausstellung Kindermuseum Zinnober
BEGIN:VEVENT
TRANSP:OPAQUE
UID:event-347@mhh-hno.events
URL:https://mhh-hno.events/calendar/event/393-h%C3%B6rausstellung-kindermus
 eum-zinnober/
DTSTART:20260125T093000Z
DTSTAMP:20260125T093000Z
CREATED:20260125T093000Z
SUMMARY:Hörausstellung Kindermuseum Zinnober
DESCRIPTION:Vortrag von Lesinski-Schiedat für Kinder im Rahmen der Hörausst
 ellung\, organisiert durch Hörregion Hannover
DTEND:20260125T103000Z
END:VEVENT
END:VCALENDAR
